BEGIN:VCALENDAR
VERSION:2.0
PRODID:-//Bewajah Society - ECPv6.2.9//NONSGML v1.0//EN
CALSCALE:GREGORIAN
METHOD:PUBLISH
X-ORIGINAL-URL:https://bewajah.in
X-WR-CALDESC:Events for Bewajah Society
REFRESH-INTERVAL;VALUE=DURATION:PT1H
X-Robots-Tag:noindex
X-PUBLISHED-TTL:PT1H
BEGIN:VTIMEZONE
TZID:Asia/Kolkata
BEGIN:STANDARD
TZOFFSETFROM:+0530
TZOFFSETTO:+0530
TZNAME:IST
DTSTART:20170101T000000
END:STANDARD
END:VTIMEZONE
BEGIN:VEVENT
DTSTART;TZID=Asia/Kolkata:20170923T180000
DTEND;TZID=Asia/Kolkata:20170923T220000
DTSTAMP:20260425T195736
CREATED:20170906T071836Z
LAST-MODIFIED:20170906T073030Z
UID:1496-1506189600-1506204000@bewajah.in
SUMMARY:Compositions on Mohan Veena with Raghavendra Kumar
DESCRIPTION:Cafe Frangipani collaborates with Zubaan to host Raghvendra and Ankit from Varanasi\, bringing you an evening brimming with melodies.
URL:https://bewajah.in/event/mohan-veena-raghavendra-kumar/
LOCATION:Cafe Frangipani\, 6/31\, Vastu Khand\, Gomti Nagar\, Lucknow\, India
ATTACH;FMTTYPE=image/jpeg:https://bewajah.in/wp-content/uploads/2017/09/01.09.2017_Zubaan_Square.jpg
END:VEVENT
END:VCALENDAR