BEGIN:VCALENDAR
VERSION:2.0
PRODID:-//Bewajah Society - ECPv6.2.9//NONSGML v1.0//EN
CALSCALE:GREGORIAN
METHOD:PUBLISH
X-WR-CALNAME:Bewajah Society
X-ORIGINAL-URL:https://bewajah.in
X-WR-CALDESC:Events for Bewajah Society
REFRESH-INTERVAL;VALUE=DURATION:PT1H
X-Robots-Tag:noindex
X-PUBLISHED-TTL:PT1H
BEGIN:VTIMEZONE
TZID:Asia/Kolkata
BEGIN:STANDARD
TZOFFSETFROM:+0530
TZOFFSETTO:+0530
TZNAME:IST
DTSTART:20180101T000000
END:STANDARD
END:VTIMEZONE
BEGIN:VEVENT
DTSTART;TZID=Asia/Kolkata:20180317T180000
DTEND;TZID=Asia/Kolkata:20180318T210000
DTSTAMP:20260425T105539
CREATED:20180222T102356Z
LAST-MODIFIED:20180305T071404Z
UID:1976-1521309600-1521406800@bewajah.in
SUMMARY:The Bewajah Evenings
DESCRIPTION:Another year passed and here we are. Last year we did some things of which\, some had made us most proud. We’re bringing you two of our best and hit shows accompanied with a little surprise announcement. Bewajah is coming up with some new plans and ideas for those who wish to join us in this narrative bringing forward a change and development in the fields of art. \nOn our list\, we have an extended version of the play Othello Syndrome. Based on a script by Rohit Verma\, this production has seen six successful performances\, and now we are adding a little bit more to the narrative\, keeping the storyline and the elements of comedy intact in this tale of jealousy\, drama\, and confusion. \nDate: 17th March. \nTime: 7 PM \nVenue: Bhartendu Natya Academy\, Gomti Nagar. \nThe second one is a personal favourite of the team (though\, a good parent isn’t supposed to discriminate\, but no one is perfect). The adaptation of the story Kavve Aur Kaala Paani by Nirmal Verma. An hour-long tale of separation and resolution\, previously presented under the drama series Stories of Separation. The play is an experimental performance with many new elements for the regular theatre going audience. \nDate: 18th March \nTime: 5 PM & 7 PM \nVenue: Bhartendu Natya Academy\, Gomti Nagar. \nSo\, join us on the evenings of 17th & 18th March\, to witness two brilliant performances and the grand announcement about your favourite Bewajah routine.
URL:https://bewajah.in/event/the-bewajah-evenings/
LOCATION:Uttar Pradesh
CATEGORIES:Bewajah Evening,Play
ATTACH;FMTTYPE=image/jpeg:https://bewajah.in/wp-content/uploads/2018/02/Bewajah-Evenings-Plays.jpg
END:VEVENT
END:VCALENDAR