BEGIN:VCALENDAR
VERSION:2.0
PRODID:-//Bewajah Society - ECPv6.2.9//NONSGML v1.0//EN
CALSCALE:GREGORIAN
METHOD:PUBLISH
X-ORIGINAL-URL:https://bewajah.in
X-WR-CALDESC:Events for Bewajah Society
REFRESH-INTERVAL;VALUE=DURATION:PT1H
X-Robots-Tag:noindex
X-PUBLISHED-TTL:PT1H
BEGIN:VTIMEZONE
TZID:Asia/Kolkata
BEGIN:STANDARD
TZOFFSETFROM:+0530
TZOFFSETTO:+0530
TZNAME:IST
DTSTART:20180101T000000
END:STANDARD
END:VTIMEZONE
BEGIN:VEVENT
DTSTART;TZID=Asia/Kolkata:20180808T193000
DTEND;TZID=Asia/Kolkata:20180808T213000
DTSTAMP:20260423T015551
CREATED:20180319T100208Z
LAST-MODIFIED:20180807T134637Z
UID:2015-1533756600-1533763800@bewajah.in
SUMMARY:मैं अखंडिनी
DESCRIPTION:लखनऊ के हिंदी रंगमंच के दर्शकों के लिए आत्मजा लेकर आ रही है अपनी प्रथम संगीतमयी नाट्य प्रस्तुति\, \n‘मैं अखंडिनी’। इस नाट्य प्रस्तुति में भारतीय पौराणिक महिला पात्रों की कथाओं को\, महिलाओं की सामाजिक समानता के परिप्रेक्ष्य में\, भावपूर्ण संगीत\, काव्य और नृत्य के माध्यम से\, नव स्वरूप में परिभाषित करने का प्रयास किया गया है। \nमहिलाओं की उपेक्षित सामाजिक स्थिति के प्रति जागरूक करती इस प्रस्तुति की विशिष्टता उसका नव रसों के सूत्र में पिरोया हुआ कथानक\, नवीन प्रस्तुतीकरण तथा मौलिक गीत संगीत है जो निश्चित ही आपकी स्मृति में अंकित हो जाएगा। \nनाटक का मूल विचार एवं आलेख शुभ्रा मित्तल एवं पूजा अग्रवाल का है\, निर्देशिका चित्रा मोहन हैं। पूर्णत महिला कलाकारों द्वारा मंचित किए जा रहे इस नाटक की अवधि लगभग डेढ़ घंटा है। \nMinimum age restriction: 12+ \nDate: 8th August \nTime: 7:30 PM to 9:00 PM \nVenue: Sangeet Natak Academy\, Gomti Nagar. \n  \nGROUND FLOOR IS SOLD OUT! \nBLACONY TICKETS WILL BE AVAILABLE AT THE VENUE! \n 
URL:https://bewajah.in/event/mein-akhandini/
LOCATION:Sangeet Natak Academy
CATEGORIES:Play
END:VEVENT
END:VCALENDAR