BEGIN:VCALENDAR
VERSION:2.0
PRODID:-//Bewajah Society - ECPv6.2.9//NONSGML v1.0//EN
CALSCALE:GREGORIAN
METHOD:PUBLISH
X-ORIGINAL-URL:https://bewajah.in
X-WR-CALDESC:Events for Bewajah Society
REFRESH-INTERVAL;VALUE=DURATION:PT1H
X-Robots-Tag:noindex
X-PUBLISHED-TTL:PT1H
BEGIN:VTIMEZONE
TZID:Asia/Kolkata
BEGIN:STANDARD
TZOFFSETFROM:+0530
TZOFFSETTO:+0530
TZNAME:IST
DTSTART:20180101T000000
END:STANDARD
END:VTIMEZONE
BEGIN:VEVENT
DTSTART;TZID=Asia/Kolkata:20180907T183000
DTEND;TZID=Asia/Kolkata:20180909T203000
DTSTAMP:20260423T111010
CREATED:20180816T094109Z
LAST-MODIFIED:20180906T144732Z
UID:2255-1536345000-1536525000@bewajah.in
SUMMARY:Studio Theatre Festival
DESCRIPTION:The Studio Theatre Festival is a three-day long festival with three handpicked\, unique plays performing at the Bewajah Café Studio Theatre. All the plays will compete to win the hearts of the audience and the jury and present us some amazing performances back to back for three days. \nOur final plays for festival are:\n1. Samwadiya (from Delhi) \n[6:30 PM\, 7th September] \n \nThe play talks about a time when the postal services are on the run and the job of Samwadiya (the messenger) is of no use. But to a matter of surprise\, he has been called again by a lady who hails from a privilege family but is forced to live in scraps. The message is delivered by Hargovind who narrates each word with exact emotion in which the information is meant to be delivered. The story questions the importance of one man agaisnt the techological leap of the society. \nWriter: Fanishwar Nath Renu \nDirector: Shyam Kumar Sahani \n  \n  \n\n\n  \n2. Dayashanker Ki Diary (from Lucknow) \n[6:30 PM\, 8th September] \n \nA story of a simple man who travels from his hometown to Mumbai in effort to become an actor. Yet\, despite all his efforts\, every day he faces indifference and exploitation. He struggles between compromising with reality and following his dreams and trying to decide the aim of his life. \nWriter: Nadira Zaheer Babbar \nDirector: Raja Awasthi \n  \n  \n  \n  \n\n\n3. 30 Days in September (from Mumbai) \n[6:30 PM\, 9th September] \n \nMahesh Dattani’s 30 Days in September\, is a grueling story of child abuse in a simple household\, a mother and daughter relationship\, and the complexities of a women finding pleasure in the pain while thrown about over the years\, making her addicted to romantic relationship that should last no more than 30 days. \nWriter: Mahesh Dattani \nDirector: Rohit Chaudhary \nADULTS ONLY \n  \n  \n  \n  \n\n\nThe performances will be judged by the Audience as well as our esteemed Jury. The best performance\, which will have the most points from the audience and our special jury\, will win the rewards in three categories: Best Play\, Best Actor\, Best Director. \n\nONLINE TICKET SALE IS CLOSED NOW! YOU CAN GET YOUR TICKETS AT THE VENUE (BEWAJAH CAFE) FROM 4 PM ONWARDS.
URL:https://bewajah.in/event/studio-theatre-festival/
LOCATION:Bewajah Cafe\, 11\, 12\, Khargapur\, Near Sankat mochan Dwar\, Gomti Nagar Extension\, Lucknow\, Uttar Pradesh\, 226030\, India
CATEGORIES:Play
ATTACH;FMTTYPE=image/jpeg:https://bewajah.in/wp-content/uploads/2018/08/Studio-Theatre-Festival-Bewajah.jpg
END:VEVENT
BEGIN:VEVENT
DTSTART;TZID=Asia/Kolkata:20190217T170000
DTEND;TZID=Asia/Kolkata:20190217T200000
DTSTAMP:20260423T111010
CREATED:20190208T185506Z
LAST-MODIFIED:20190217T105658Z
UID:2416-1550422800-1550433600@bewajah.in
SUMMARY:Park | Hindi Play
DESCRIPTION:About: \nThree benches\, three men\, a squabble about the best seat\, each man claims his right\, and of course\, there is not enough room for everyone. \nThe play takes a light-hearted look at issues of space\, ownership and territory that inevitably leads to questions of identity and belonging. \nThe Hindi drama is set in a park with three benches that become a point of contention between three men. All three want the best spot and try to prove why they deserve it. Each one’s claim is superior to the others’. In the course of the conversation—mostly heated and combative—personal and larger politics come to the fore\, revealing the fragility of life and emotion.  The setting could be any public park and these could be three strangers going about their daily routines\, and it could be a silly squabble over property but each one also has a deeper\, personal and poignant story to tell. \nTwo Shows: 5 PM & 7 PM \nDuration: 50 minutes \nVenue: Bewajah Cafe\, Gomti Nagar Extension. \nTicket Price: ₹100
URL:https://bewajah.in/event/park-hindi-play/
LOCATION:Bewajah Cafe\, 11\, 12\, Khargapur\, Near Sankat mochan Dwar\, Gomti Nagar Extension\, Lucknow\, Uttar Pradesh\, 226030\, India
CATEGORIES:Play
END:VEVENT
BEGIN:VEVENT
DTSTART;TZID=Asia/Kolkata:20191115T190000
DTEND;TZID=Asia/Kolkata:20191116T190000
DTSTAMP:20260423T111010
CREATED:20191031T094427Z
LAST-MODIFIED:20191115T040845Z
UID:2607-1573844400-1573930800@bewajah.in
SUMMARY:Studio Theatre Festival Season 2
DESCRIPTION:The Studio Theatre Festival is back! \nWe are here for season 2 with two selected plays\, performing this November at the Studio Theatre\, Bewajah Cafe. Unique performances in a different setting. An experimental style of performance with us. The festival is competition-based\, hence every audience member will be voting for their favourite performance\, from which we will select the best performances of this year! \nSo come and witness two amazing performances from Lucknow: \n\nPark (Hindi) | 15th Nov\, 7 PM\nGigolo (English) 16th Nov\, 7 PM [Adults only]\n\nTickets available at the venue! \nFor more information\, please contact: +91-7318333328; +91-7318333326
URL:https://bewajah.in/event/studio-theatre-festival-season-2/
LOCATION:Bewajah Cafe\, 11\, 12\, Khargapur\, Near Sankat mochan Dwar\, Gomti Nagar Extension\, Lucknow\, Uttar Pradesh\, 226030\, India
CATEGORIES:Play
ATTACH;FMTTYPE=image/jpeg:https://bewajah.in/wp-content/uploads/2014/09/Event-Cover_november.jpg
END:VEVENT
END:VCALENDAR