BEGIN:VCALENDAR
VERSION:2.0
PRODID:-//Bewajah Society - ECPv6.2.9//NONSGML v1.0//EN
CALSCALE:GREGORIAN
METHOD:PUBLISH
X-ORIGINAL-URL:https://bewajah.in
X-WR-CALDESC:Events for Bewajah Society
REFRESH-INTERVAL;VALUE=DURATION:PT1H
X-Robots-Tag:noindex
X-PUBLISHED-TTL:PT1H
BEGIN:VTIMEZONE
TZID:UTC
BEGIN:STANDARD
TZOFFSETFROM:+0000
TZOFFSETTO:+0000
TZNAME:UTC
DTSTART:20170101T000000
END:STANDARD
END:VTIMEZONE
BEGIN:VEVENT
DTSTART;TZID=UTC:20170706T080000
DTEND;TZID=UTC:20170709T170000
DTSTAMP:20260425T213317
CREATED:20170511T073708Z
LAST-MODIFIED:20170531T125813Z
UID:1307-1499328000-1499619600@bewajah.in
SUMMARY:Yatra
DESCRIPTION:The Bewajah Yatra is a time with friends in the lap of nature\, to discuss art\, philosophy and life. This time Bewajah Yatra is going to involve the dear Yatris more into the journey than the destination. We’re going back to Uttarakhand because the Land of Gods still holds a few wonders that we are yet to see. The journey will start from the Kathgodam\, in the morning\, where all of us will assemble and board the traveller. The trip will start from there on and all the while\, the participants will be indulged in continuous activities related to literature\, theatre and understanding the nature\, all of which carry the essence of Bewajah. To understand nature and find solace in its lap\, we’re trying to find people who are interested in the small aspects of life and are looking forward to discovering other non-conventional approaches towards living. \nDuration: 6th to 9th July. \nJourney: Kathgodam – Kausani – Kathgodam \nHosts: Bewajah and The Buransh \nCost: ₹9\,500 per head (inclusive of all taxes) \nSchedule \n \n6th July \n\nGather at Kathgodam in the morning.\nLeave for Kausani around 8 am\nThere will be breakfast on the way around 9 to 10 am\nArrival at The Buransh at 2 pm\nThe guests will be given time to settle down\, freshen up and have their lunch.\nIntroduction session and communicative activities at 4 pm\n\nParticipation mandatory\n\n\nBonfire and games around 8 pm\n\nParticipation mandatory\n\n\nDinner at 9 pm\n\n\n7th July \n\nPhotography Workshop at 6 am\nBreakfast at 8 am\nWriting workshop at 10:30 am\nLunch at 1:30 pm\nExplore Kausani in evening\n\nParticipation mandatory\n\n\nIntroduction to Kumaoni Culture / Musical Evening at 7 pm\n\nParticipation mandatory\n\n\nDinner at 9 pm\n\n\n8th July \n\nBewajah Morning at 6 am\n\nParticipation mandatory\n\n\nBreakfast at 8 am\nVisit local areas / outdoor activities at 10 am\n\nParticipation mandatory\n\n\nOutdoor lunch at 1 pm\nBack to Burnash around 5 pm\nBewajah Evening (closing event) at 7 pm\n\nParticipation mandatory\n\n\nDinner at 9 pm\n\n\n9th July (as per schedule) \n\nBreakfast at 8 am\nVisit Baijnath Temple at 10 am\nLunch at Baijnath Temple\nReturn to Kathgodam\nLunch on the way\n\n\n\nImportant Points: \n\nAge limit: only 19 and above are allowed.\nEvery individual need to fill the forms separately.\nBe mindful of packing the necessary items given in the list provided in the confirmation mail.\nAny other service required (apart from the ones mentioned in the schedule) will have extra charges.\nPlease inform us of your travelling schedule in advance\, so the necessary arrangements can be made.\nIf you have any kind of physical illness please tell us in advance.\nPeople who have applied for a refund will receive it after 10th of July.\n\n\n\n  \n\n\n\n\n\n\n\n\n\n Name *\n \n \n Email *\n \n \n Contact No *\n\n \n Address\n\n \n Any Questions\n \n \n\n \n\n\n\n  \n\n  \nTo join the trip\, you can select one of the following options: \nOne-time payment – ₹9\,500 \nIn two Instalments – ₹5\,000 each \nCancellation and Refund Policy:\nAfter the payment have been made\, the following deductions will be applied. \n\nBefore 20th of June: ₹7\,000\nBefore 22nd of June: ₹4\,500\nBefore 25th of June: ₹2\,000\n\nPeople who have applied for a refund will receive it after 10th of July.
URL:https://bewajah.in/event/yatra/
LOCATION:Kausani\, Kausani\, Kausani\, Uttarakhand\, 263639\, India
ATTACH;FMTTYPE=image/jpeg:https://bewajah.in/wp-content/uploads/2017/05/Yatra-Website.jpg
END:VEVENT
END:VCALENDAR