BEGIN:VCALENDAR
VERSION:2.0
PRODID:-//Bewajah Society - ECPv6.2.9//NONSGML v1.0//EN
CALSCALE:GREGORIAN
METHOD:PUBLISH
X-WR-CALNAME:Bewajah Society
X-ORIGINAL-URL:https://bewajah.in
X-WR-CALDESC:Events for Bewajah Society
REFRESH-INTERVAL;VALUE=DURATION:PT1H
X-Robots-Tag:noindex
X-PUBLISHED-TTL:PT1H
BEGIN:VTIMEZONE
TZID:Asia/Kolkata
BEGIN:STANDARD
TZOFFSETFROM:+0530
TZOFFSETTO:+0530
TZNAME:IST
DTSTART:20180101T000000
END:STANDARD
END:VTIMEZONE
BEGIN:VEVENT
DTSTART;TZID=Asia/Kolkata:20180701T173000
DTEND;TZID=Asia/Kolkata:20180701T193000
DTSTAMP:20260423T015508
CREATED:20180625T133506Z
LAST-MODIFIED:20180625T135726Z
UID:2132-1530466200-1530473400@bewajah.in
SUMMARY:Aam Ki Dawat aur Dastangoi
DESCRIPTION:A special evening at Bewajah Cafe\, with friends and mangoes. \nYou’re cordially invited to an evening of eating\, talking and listening to the stories about mangoes. \nसपरिवार पधारिए आम की इस ख़ास शाम में. सबके साथ जी भर के आम खाइए\, इसके साथ ही दास्तानगो हिमांशु बाजपेयी से सुनिए बच्चों और बड़ों के लिए आम पर दो बेहद ख़ास दास्तानें. यानी आम के आम\, गुठलियों के दाम. \nDate: 1st July \nTime: 5:30 PM Onwards \nVenue: Bewajah Cafe
URL:https://bewajah.in/event/aam-ki-dawat-aur-dastangoi/
LOCATION:Bewajah Cafe\, 11\, 12\, Khargapur\, Near Sankat mochan Dwar\, Gomti Nagar Extension\, Lucknow\, Uttar Pradesh\, 226030\, India
CATEGORIES:Bewajah Evening
ATTACH;FMTTYPE=image/jpeg:https://bewajah.in/wp-content/uploads/2018/06/Event-Cover.jpg
END:VEVENT
END:VCALENDAR